BEGIN:VCALENDAR
VERSION:2.0
PRODID:-//Squarespace Inc/Squarespace 6//v6//EN
BEGIN:VEVENT
UID:5a7be34c8165f5f626388d0a@squarespace.com
DTSTAMP:20180208T054413Z
DTSTART:20180414T000000Z
DTEND:20180414T020000Z
SUMMARY:Inversion Flow with Shelby 
END:VEVENT
END:VCALENDAR
