BEGIN:VCALENDAR
VERSION:2.0
PRODID:-//Squarespace Inc/Squarespace 6//v6//EN
BEGIN:VEVENT
UID:5ab07b8d1ae6cff292a657f6@squarespace.com
DTSTAMP:20180320T031443Z
DTSTART:20180406T233000Z
DTEND:20180407T063000Z
SUMMARY:Understanding Birth 
END:VEVENT
END:VCALENDAR
