BEGIN:VCALENDAR
VERSION:2.0
PRODID:-//Squarespace Inc/Squarespace 6//v6//EN
BEGIN:VEVENT
UID:5ab07cb070a6ad04126a79bb@squarespace.com
DTSTAMP:20180412T061612Z
DTSTART:20180505T000000Z
DTEND:20180505T020000Z
SUMMARY:Strength without Struggle 
END:VEVENT
END:VCALENDAR
