BEGIN:VCALENDAR
VERSION:2.0
PRODID:-//Squarespace Inc/Squarespace 6//v6//EN
BEGIN:VEVENT
UID:5ae66d2270a6adc5613c1496@squarespace.com
DTSTAMP:20180430T020233Z
DTSTART:20180601T013000Z
DTEND:20180630T023000Z
SUMMARY:Birthday Month
END:VEVENT
END:VCALENDAR
