BEGIN:VCALENDAR
VERSION:2.0
PRODID:-//Squarespace Inc/Squarespace 6//v6//EN
BEGIN:VEVENT
UID:5ab07d168a922d6ee3b6e35d@squarespace.com
DTSTAMP:20180320T032652Z
DTSTART:20180602T000000Z
DTEND:20180602T020000Z
SUMMARY:Bhakti Flow with Rachel Nokes 
END:VEVENT
END:VCALENDAR
