BEGIN:VCALENDAR
VERSION:2.0
PRODID:-//Squarespace Inc/Squarespace 6//v6//EN
BEGIN:VEVENT
UID:5af227d3575d1f78305a6687@squarespace.com
DTSTAMP:20180508T225416Z
DTSTART:20180609T000000Z
DTEND:20180609T020000Z
SUMMARY:Backbends for ALL bodies 
END:VEVENT
END:VCALENDAR
