BEGIN:VCALENDAR
VERSION:2.0
PRODID:-//Squarespace Inc/Squarespace 6//v6//EN
BEGIN:VEVENT
UID:5adeaad3352f530132760273@squarespace.com
DTSTAMP:20180424T041844Z
DTSTART:20180707T000000Z
DTEND:20180707T020000Z
SUMMARY:Sustainable Sadhana
END:VEVENT
END:VCALENDAR
