BEGIN:VCALENDAR
VERSION:2.0
PRODID:-//Squarespace Inc/Squarespace 6//v6//EN
BEGIN:VEVENT
UID:5b41b2162b6a28b390acf5d4@squarespace.com
DTSTAMP:20180802T092132Z
DTSTART:20180916T050000Z
DTEND:20180916T070000Z
SUMMARY:Yin Yoga Workshop  
END:VEVENT
END:VCALENDAR
