BEGIN:VCALENDAR
VERSION:2.0
PRODID:-//Squarespace Inc/Squarespace 6//v6//EN
BEGIN:VEVENT
UID:5b41b286352f532eeaab6cbd@squarespace.com
DTSTAMP:20180718T070124Z
DTSTART:20180812T030000Z
DTEND:20180812T073000Z
SUMMARY:Sacred Union Yoga & Dance 
END:VEVENT
END:VCALENDAR
