BEGIN:VCALENDAR
VERSION:2.0
PRODID:-//Squarespace Inc/Squarespace 6//v6//EN
BEGIN:VEVENT
UID:5b62cc4403ce64ad355e92c6@squarespace.com
DTSTAMP:20180814T040842Z
DTSTART:20180825T220000Z
DTEND:20180825T230000Z
SUMMARY:Bending for Bales 
GEO:-35.315739;150.435862
LOCATION:Harvest Bar Milton\, 23 Wason Street\, Milton\, NSW\, 2538\, Austr
 alia
END:VEVENT
END:VCALENDAR
