BEGIN:VCALENDAR
VERSION:2.0
PRODID:-//Squarespace Inc/Squarespace 6//v6//EN
BEGIN:VEVENT
UID:5b7254fe4ae2379d20ae2905@squarespace.com
DTSTAMP:20180823T035122Z
DTSTART:20180831T223000Z
DTEND:20180831T233000Z
SUMMARY:Yoga4Dignity 
END:VEVENT
END:VCALENDAR
