BEGIN:VCALENDAR
VERSION:2.0
PRODID:-//Squarespace Inc/Squarespace 6//v6//EN
BEGIN:VEVENT
UID:5b90851a352f533ad53acbef@squarespace.com
DTSTAMP:20180906T022141Z
DTSTART:20180914T010000Z
DTEND:20180914T021500Z
SUMMARY:Baby Massage 
END:VEVENT
END:VCALENDAR
