BEGIN:VCALENDAR
VERSION:2.0
PRODID:-//Squarespace Inc/Squarespace 6//v6//EN
BEGIN:VEVENT
UID:5b9ec8e72b6a28f6643e661b@squarespace.com
DTSTAMP:20180916T212246Z
DTSTART:20180928T073000Z
DTEND:20180928T093000Z
SUMMARY:Restorative Yoga and Deep Relaxation
END:VEVENT
END:VCALENDAR
