BEGIN:VCALENDAR
VERSION:2.0
PRODID:-//Squarespace Inc/Squarespace 6//v6//EN
BEGIN:VEVENT
UID:5b877f5703ce64608235c349@squarespace.com
DTSTAMP:20180924T050029Z
DTSTART:20180929T050000Z
DTEND:20180929T070000Z
SUMMARY:Springtime Unplugged 
END:VEVENT
END:VCALENDAR
