BEGIN:VCALENDAR
VERSION:2.0
PRODID:-//Squarespace Inc/Squarespace 6//v6//EN
BEGIN:VEVENT
UID:5c32aa36562fa7a26edb2b62@squarespace.com
DTSTAMP:20190121T050255Z
DTSTART:20190127T230000Z
DTEND:20190128T010000Z
SUMMARY:Inversion &amp\; Arm Balance Workshop
END:VEVENT
END:VCALENDAR
