BEGIN:VCALENDAR
VERSION:2.0
PRODID:-//Squarespace Inc/Squarespace 6//v6//EN
BEGIN:VEVENT
UID:5bd7bfa3419202e5d278e633@squarespace.com
DTSTAMP:20190101T222842Z
DTSTART:20190102T190000Z
DTEND:20190102T203000Z
SUMMARY:Refresh 2019 
GEO:-35.314009;150.469676
LOCATION:Matron Porter Reserve Narrawallee\, 102 Matron Porter Drive\, Narr
 awallee NSW 2539\, Australia
END:VEVENT
END:VCALENDAR
