BEGIN:VCALENDAR
VERSION:2.0
PRODID:-//Squarespace Inc/Squarespace 6//v6//EN
BEGIN:VEVENT
UID:5c2bddc640ec9ab2ea42111f@squarespace.com
DTSTAMP:20190101T214425Z
DTSTART:20190104T230000Z
DTEND:20190105T010000Z
SUMMARY:Intention Setting for 2019 
END:VEVENT
END:VCALENDAR
