BEGIN:VCALENDAR
VERSION:2.0
PRODID:-//Squarespace Inc/Squarespace 6//v6//EN
BEGIN:VEVENT
UID:5d6d96c5e4f17a0001bb2e92@squarespace.com
DTSTAMP:20190904T085432Z
DTSTART:20191025T233000Z
DTEND:20191026T013000Z
SUMMARY:INTRO - VERT 
END:VEVENT
END:VCALENDAR
