BEGIN:VCALENDAR
VERSION:2.0
PRODID:-//Squarespace Inc/Squarespace 6//v6//EN
BEGIN:VEVENT
UID:5dbfdbb20ba1c504eca85f5c@squarespace.com
DTSTAMP:20191122T024826Z
DTSTART:20191204T070000Z
DTEND:20191204T090000Z
SUMMARY:Cultivating Kindness - Yin Yoga
END:VEVENT
END:VCALENDAR
