BEGIN:VCALENDAR
VERSION:2.0
PRODID:-//Squarespace Inc/Squarespace 6//v6//EN
BEGIN:VEVENT
UID:5dbfdd28c85da67954ded005@squarespace.com
DTSTAMP:20191226T005047Z
DTSTART:20191230T223000Z
DTEND:20191231T003000Z
SUMMARY:New Year's Eve Intention Setting
END:VEVENT
END:VCALENDAR
