BEGIN:VCALENDAR
VERSION:2.0
PRODID:-//Squarespace Inc/Squarespace 6//v6//EN
BEGIN:VEVENT
UID:5d51f62610da0000019152f9@squarespace.com
DTSTAMP:20190813T060323Z
DTSTART:20191206T233000Z
DTEND:20191207T010000Z
SUMMARY:Teacher Training FREE Information Session 
END:VEVENT
END:VCALENDAR
