BEGIN:VCALENDAR
VERSION:2.0
PRODID:-//Squarespace Inc/Squarespace 6//v6//EN
BEGIN:VEVENT
UID:5ddca621f95aa8746454887d@squarespace.com
DTSTAMP:20191126T042107Z
DTSTART:20191208T230000Z
DTEND:20191209T000000Z
SUMMARY:Honouring &amp\; Celebrating Motherhood
END:VEVENT
END:VCALENDAR
