BEGIN:VCALENDAR
VERSION:2.0
PRODID:-//Squarespace Inc/Squarespace 6//v6//EN
BEGIN:VEVENT
UID:5c0ef089575d1f9d54182d77@squarespace.com
DTSTAMP:20190201T022037Z
DTSTART:20190222T063000Z
DTEND:20190222T083000Z
SUMMARY:Release &amp\; Roll 
END:VEVENT
END:VCALENDAR
