BEGIN:VCALENDAR
VERSION:2.0
PRODID:-//Squarespace Inc/Squarespace 6//v6//EN
BEGIN:VEVENT
UID:5c4151db575d1fdd58b807b4@squarespace.com
DTSTAMP:20190320T045703Z
DTSTART:20190301T230000Z
DTEND:20190406T000000Z
SUMMARY:Prenatal Yoga 
END:VEVENT
END:VCALENDAR
