BEGIN:VCALENDAR
VERSION:2.0
PRODID:-//Squarespace Inc/Squarespace 6//v6//EN
BEGIN:VEVENT
UID:5c5b8e2a53450aa0aa3c00f6@squarespace.com
DTSTAMP:20190812T233634Z
DTSTART:20190223T230000Z
DTEND:20190224T010000Z
SUMMARY:Teacher Training Information Session 
END:VEVENT
END:VCALENDAR
