BEGIN:VCALENDAR
VERSION:2.0
PRODID:-//Squarespace Inc/Squarespace 6//v6//EN
BEGIN:VEVENT
UID:5c68d5ff9b747a1be0df3e6d@squarespace.com
DTSTAMP:20190217T033812Z
DTSTART:20190323T230000Z
DTEND:20190324T010000Z
SUMMARY:Aligned Focus with Emily 
END:VEVENT
END:VCALENDAR
