BEGIN:VCALENDAR
VERSION:2.0
PRODID:-//Squarespace Inc/Squarespace 6//v6//EN
BEGIN:VEVENT
UID:5c7479e2eb3931635c480de8@squarespace.com
DTSTAMP:20190225T233042Z
DTSTART:20190308T080000Z
DTEND:20190308T093000Z
SUMMARY:Women's Circle
END:VEVENT
END:VCALENDAR
