BEGIN:VCALENDAR
VERSION:2.0
PRODID:-//Squarespace Inc/Squarespace 6//v6//EN
BEGIN:VEVENT
UID:5c41510e032be4745b252db5@squarespace.com
DTSTAMP:20190402T042533Z
DTSTART:20190412T080000Z
DTEND:20190412T090000Z
SUMMARY:Mindful Living Book Tour 
END:VEVENT
END:VCALENDAR
