BEGIN:VCALENDAR
VERSION:2.0
PRODID:-//Squarespace Inc/Squarespace 6//v6//EN
BEGIN:VEVENT
UID:5c747b12ee6eb067c7f78c5a@squarespace.com
DTSTAMP:20190416T004554Z
DTSTART:20190421T053000Z
DTEND:20190421T073000Z
SUMMARY:From the MIND to the SELF 
END:VEVENT
END:VCALENDAR
