BEGIN:VCALENDAR
VERSION:2.0
PRODID:-//Squarespace Inc/Squarespace 6//v6//EN
BEGIN:VEVENT
UID:5c91c83915fcc025591cc4aa@squarespace.com
DTSTAMP:20190516T234130Z
DTSTART:20190518T070000Z
DTEND:20190518T080000Z
SUMMARY:Sacred Sound ~ Kirtan with Rachel 
END:VEVENT
END:VCALENDAR
