BEGIN:VCALENDAR
VERSION:2.0
PRODID:-//Squarespace Inc/Squarespace 6//v6//EN
BEGIN:VEVENT
UID:5cee20e40d92977555e795fa@squarespace.com
DTSTAMP:20190604T002318Z
DTSTART:20190621T080000Z
DTEND:20190621T093000Z
SUMMARY:Winter Solstice 
GEO:-35.370082;150.439391
LOCATION:Kings Point Ski Club\, Edward avenue\, Kings Point\, NSW\, Austral
 ia
END:VEVENT
END:VCALENDAR
