BEGIN:VCALENDAR
VERSION:2.0
PRODID:-//Squarespace Inc/Squarespace 6//v6//EN
BEGIN:VEVENT
UID:5b8ca6406d2a7323d932edc2@squarespace.com
DTSTAMP:20190604T002545Z
DTSTART:20190627T030000Z
DTEND:20190702T010000Z
SUMMARY:Bali Yoga Retreat to REAWAKEN 
END:VEVENT
END:VCALENDAR
