BEGIN:VCALENDAR
VERSION:2.0
PRODID:-//Squarespace Inc/Squarespace 6//v6//EN
BEGIN:VEVENT
UID:5cee1c4c104c7b73603804da@squarespace.com
DTSTAMP:20190628T072518Z
DTSTART:20190628T073000Z
DTEND:20190628T083000Z
SUMMARY:Kirtan with Mel Rosina 
GEO:-35.316401;150.435712
LOCATION:Om Sweet Om Milton\, 91 Princes Highway\, Milton\, NSW\, Australia
END:VEVENT
END:VCALENDAR
