BEGIN:VCALENDAR
VERSION:2.0
PRODID:-//Squarespace Inc/Squarespace 6//v6//EN
BEGIN:VEVENT
UID:5cee0a1b0d92977555e6d169@squarespace.com
DTSTAMP:20190628T072501Z
DTSTART:20190630T000000Z
DTEND:20190630T020000Z
SUMMARY:BALANCE through Shiva &amp\; Shakti 
GEO:-35.316401;150.435712
LOCATION:Om Sweet Om Milton\, 91 Princes Highway\, Milton\, NSW\, Australia
END:VEVENT
END:VCALENDAR
