BEGIN:VCALENDAR
VERSION:2.0
PRODID:-//Squarespace Inc/Squarespace 6//v6//EN
BEGIN:VEVENT
UID:5d11d0636cbeaf00010bbc27@squarespace.com
DTSTAMP:20190629T234551Z
DTSTART:20190803T010000Z
DTEND:20190803T030000Z
SUMMARY:Hip and Groin opening with Emily McGregor
GEO:-35.316401;150.435712
LOCATION:Om Sweet Om Milton\, 91 Princes Highway\, Milton\, NSW\, 2538\, Au
 stralia
END:VEVENT
END:VCALENDAR
