BEGIN:VCALENDAR
VERSION:2.0
PRODID:-//Squarespace Inc/Squarespace 6//v6//EN
BEGIN:VEVENT
UID:5d15b8a2ed83600001fe48de@squarespace.com
DTSTAMP:20190629T234449Z
DTSTART:20190706T010000Z
DTEND:20190706T030000Z
SUMMARY:Lower Back Workshop with Emily McGregor
GEO:-35.316401;150.435712
LOCATION:Om Sweet Om Milton\, Shop 3\, 91 Princes Highway\, MILTON  NSW 253
 8\, AUSTRALIA
END:VEVENT
END:VCALENDAR
