BEGIN:VCALENDAR
VERSION:2.0
PRODID:-//Squarespace Inc/Squarespace 6//v6//EN
BEGIN:VEVENT
UID:5d51ee0224fd2f00014bb522@squarespace.com
DTSTAMP:20190905T031638Z
DTSTART:20190904T070000Z
DTEND:20190925T080000Z
SUMMARY:Yoga for Men 
END:VEVENT
END:VCALENDAR
