BEGIN:VCALENDAR
VERSION:2.0
PRODID:-//Squarespace Inc/Squarespace 6//v6//EN
BEGIN:VEVENT
UID:5d6d989af37f240001a8b8f6@squarespace.com
DTSTAMP:20190905T034905Z
DTSTART:20190906T073000Z
DTEND:20190912T084500Z
SUMMARY:Introduction to Qigong 
END:VEVENT
END:VCALENDAR
