BEGIN:VCALENDAR
VERSION:2.0
PRODID:-//Squarespace Inc/Squarespace 6//v6//EN
BEGIN:VEVENT
UID:5d51efd3f9d5a200016c05c7@squarespace.com
DTSTAMP:20190904T085507Z
DTSTART:20190907T003000Z
DTEND:20190907T023000Z
SUMMARY:Seasonal Transition - Winter to Spring 
END:VEVENT
END:VCALENDAR
