BEGIN:VCALENDAR
VERSION:2.0
PRODID:-//Squarespace Inc/Squarespace 6//v6//EN
BEGIN:VEVENT
UID:5e582d9dc060a76747729825@squarespace.com
DTSTAMP:20200227T210439Z
DTSTART:20200314T073000Z
DTEND:20200314T090000Z
SUMMARY:HEARTSOUND ~ Deep Dream Sound Journey
END:VEVENT
END:VCALENDAR
