BEGIN:VCALENDAR
VERSION:2.0
PRODID:-//Squarespace Inc/Squarespace 6//v6//EN
BEGIN:VEVENT
UID:5b4c70a5575d1fa91f48180f@squarespace.com
DTSTAMP:20180718T065943Z
DTSTART:20180730T080000Z
DTEND:20180730T093000Z
SUMMARY:Better Sleep Naturally
GEO:-35.339562;150.461235
LOCATION:Om Sweet Om\, 3/91 Princes Highway\, Milton NSW 2539\, Australia
END:VEVENT
END:VCALENDAR
