BEGIN:VCALENDAR
VERSION:2.0
PRODID:-//Squarespace Inc/Squarespace 6//v6//EN
BEGIN:VEVENT
UID:58d0a7e886e6c0c49af3433c@squarespace.com
DTSTAMP:20170321T042006Z
DTSTART:20170401T223000Z
DTEND:20170402T003000Z
SUMMARY:Sound Healing Journey 
END:VEVENT
END:VCALENDAR
