BEGIN:VCALENDAR
VERSION:2.0
PRODID:-//Squarespace Inc/Squarespace 6//v6//EN
BEGIN:VEVENT
UID:59c85a323e00be8678b84c15@squarespace.com
DTSTAMP:20171003T023635Z
DTSTART:20171006T230000Z
DTEND:20171007T003000Z
SUMMARY:Kirtan / Chanting Evening 
END:VEVENT
END:VCALENDAR
